回多个平台构建/检查报告BioC 3.18:简化长 |
|
这个页面上生成-0400 11:35:07 2023-07-05(2023年7月结婚,05年)。
主机名 | 操作系统 | 拱(*) | R版本 | 安装的包裹 |
---|---|---|---|---|
nebbiolo2 | Linux (Ubuntu 22.04.2 LTS) | x86_64 | 4.3.1(2023-06-16)——“小童子军” | 4609年 |
palomino4 | Windows Server 2022数据中心 | x64 | 4.3.1 (2023-06-16 ucrt)——“小童子军” | 4315年 |
lconway | macOS 12.6.5蒙特利 | x86_64 | 4.3.1修补(2023-06-17 r84564)——“小童子军” | 4321年 |
kunpeng2 | Linux (openEuler 22.03 LTS-SP1) | aarch64 | 4.3.1(2023-06-16)——“小童子军” | 4323年 |
点击任何主机名看到更多的信息系统(如编译器)(*)报道的uname - p”,除了在Windows和Mac OS X |
基于kunpeng2 (Linux ARM64)实验! |
的开发人员/维2021欧洲杯体育投注开户护者GSEABase包: ——允许24小时(有时是48小时)为您的最新推到git@git.bioconductor.org:包/ GSEABase.git反思这一报告。看到故障排除构建报告为更多的信息。 ——使用以下Renviron设置复制错误和警告。 ——如果“R CMD检查”开始失败最近在Linux构建器(s) /缺失的依赖关系,将缺失的依赖关系添加到的建议:“你的描述文件。看到Renviron.bioc为更多的信息。 |
包888年/ 2211 | 主机名 | OS /拱 | 安装 | 构建 | 检查 | 构建本 | ||||||||
GSEABase 1.63.0(着陆页) Bioconductor包维护者
|
nebbiolo2 | Linux (Ubuntu 22.04.2 LTS) / x86_64 | 好吧 | 好吧 | 好吧 | ![]() |
||||||||
palomino4 | Windows Server 2022数据中心/ x64 | 好吧 | 好吧 | 好吧 | 好吧 | ![]() |
||||||||
lconway | macOS 12.6.5蒙特利/ x86_64 | 好吧 | 好吧 | 好吧 | 好吧 | ![]() |
||||||||
kunpeng2 | Linux (openEuler 22.03 LTS-SP1) / aarch64 | 好吧 | 好吧 | 错误 | ||||||||||
快速统计数据 | OS /拱 | 安装 | 构建 | 检查 | 构建本 | |||||||||||||||||
nebbiolo2 | Linux (Ubuntu 22.04.2 LTS) / x86_64 |
|
|
|
||||||||||||||||||
palomino4 | Windows Server 2022数据中心/ x64 |
|
|
|
|
|||||||||||||||||
lconway | macOS 12.6.5蒙特利/ x86_64 |
|
|
|
|
|||||||||||||||||
kunpeng2 | Linux (openEuler 22.03 LTS-SP1) / aarch64 |
|
|
|
||||||||||||||||||
包1/ 41 | 主机名 | OS /拱 | 安装 | 构建 | 检查 | 构建本 | ||||||||||||||||
AGDEX1.49.0(着陆页) Cuilan lani高
|
nebbiolo2 | Linux (Ubuntu 22.04.2 LTS) / x86_64 | 好吧 | 好吧 | 好吧 | ![]() |
||||||||||||||||
palomino4 | Windows Server 2022数据中心/ x64 | 好吧 | 好吧 | 好吧 | 好吧 | ![]() |
||||||||||||||||
lconway | macOS 12.6.5蒙特利/ x86_64 | 好吧 | 好吧 | 好吧 | 好吧 | ![]() |
||||||||||||||||
kunpeng2 | Linux (openEuler 22.03 LTS-SP1) / aarch64 | 好吧 | 好吧 | 好吧 | ||||||||||||||||||
包2/ 41 | 主机名 | OS /拱 | 安装 | 构建 | 检查 | 构建本 | ||||||||||||||||
AUCell1.23.0(着陆页) 莎拉Aibar
|
nebbiolo2 | Linux (Ubuntu 22.04.2 LTS) / x86_64 | 好吧 | 好吧 | 好吧 | ![]() |
||||||||||||||||
palomino4 | Windows Server 2022数据中心/ x64 | 好吧 | 好吧 | 好吧 | 好吧 | ![]() |
||||||||||||||||
lconway | macOS 12.6.5蒙特利/ x86_64 | 好吧 | 好吧 | 好吧 | 好吧 | ![]() |
||||||||||||||||
kunpeng2 | Linux (openEuler 22.03 LTS-SP1) / aarch64 | 好吧 | 好吧 | 错误 | ||||||||||||||||||
包3/ 41 | 主机名 | OS /拱 | 安装 | 构建 | 检查 | 构建本 | ||||||||||||||||
BicARE1.59.0(着陆页) 皮埃尔Gestraud
|
nebbiolo2 | Linux (Ubuntu 22.04.2 LTS) / x86_64 | 好吧 | 好吧 | 好吧 | ![]() |
||||||||||||||||
palomino4 | Windows Server 2022数据中心/ x64 | 好吧 | 好吧 | 好吧 | 好吧 | ![]() |
||||||||||||||||
lconway | macOS 12.6.5蒙特利/ x86_64 | 好吧 | 好吧 | 好吧 | 好吧 | ![]() |
||||||||||||||||
kunpeng2 | Linux (openEuler 22.03 LTS-SP1) / aarch64 | 好吧 | 好吧 | 错误 | ||||||||||||||||||
包4/ 41 | 主机名 | OS /拱 | 安装 | 构建 | 检查 | 构建本 | ||||||||||||||||
BioCor1.25.1(着陆页) Lluis里维拉桑丘
|
nebbiolo2 | Linux (Ubuntu 22.04.2 LTS) / x86_64 | 好吧 | 好吧 | 好吧 | ![]() |
||||||||||||||||
palomino4 | Windows Server 2022数据中心/ x64 | 好吧 | 好吧 | 好吧 | 好吧 | ![]() |
||||||||||||||||
lconway | macOS 12.6.5蒙特利/ x86_64 | 好吧 | 好吧 | 好吧 | 好吧 | ![]() |
||||||||||||||||
kunpeng2 | Linux (openEuler 22.03 LTS-SP1) / aarch64 | 好吧 | 好吧 | 错误 | ||||||||||||||||||
包5/ 41 | 主机名 | OS /拱 | 安装 | 构建 | 检查 | 构建本 | ||||||||||||||||
癌症1.35.0(着陆页) 卡里姆Mezhoud
|
nebbiolo2 | Linux (Ubuntu 22.04.2 LTS) / x86_64 | 好吧 | 好吧 | 好吧 | ![]() |
||||||||||||||||
palomino4 | Windows Server 2022数据中心/ x64 | 好吧 | 好吧 | 好吧 | 好吧 | ![]() |
||||||||||||||||
lconway | macOS 12.6.5蒙特利/ x86_64 | 好吧 | 好吧 | 好吧 | 好吧 | ![]() |
||||||||||||||||
kunpeng2 | Linux (openEuler 22.03 LTS-SP1) / aarch64 | 好吧 | 好吧 | 错误 | ||||||||||||||||||
包6/ 41 | 主机名 | OS /拱 | 安装 | 构建 | 检查 | 构建本 | ||||||||||||||||
类别2.67.0(着陆页) Bioconductor包维护者
|
nebbiolo2 | Linux (Ubuntu 22.04.2 LTS) / x86_64 | 好吧 | 好吧 | 好吧 | ![]() |
||||||||||||||||
palomino4 | Windows Server 2022数据中心/ x64 | 好吧 | 好吧 | 好吧 | 好吧 | ![]() |
||||||||||||||||
lconway | macOS 12.6.5蒙特利/ x86_64 | 好吧 | 好吧 | 好吧 | 好吧 | ![]() |
||||||||||||||||
kunpeng2 | Linux (openEuler 22.03 LTS-SP1) / aarch64 | 好吧 | 好吧 | 错误 | ||||||||||||||||||
包7/ 41 | 主机名 | OS /拱 | 安装 | 构建 | 检查 | 构建本 | ||||||||||||||||
categoryCompare1.45.0(着陆页) 罗伯特·m·飞行
|
nebbiolo2 | Linux (Ubuntu 22.04.2 LTS) / x86_64 | 好吧 | 好吧 | 好吧 | ![]() |
||||||||||||||||
palomino4 | Windows Server 2022数据中心/ x64 | 好吧 | 错误 | 跳过 | 跳过 | |||||||||||||||||
lconway | macOS 12.6.5蒙特利/ x86_64 | 好吧 | 错误 | 跳过 | 跳过 | |||||||||||||||||
kunpeng2 | Linux (openEuler 22.03 LTS-SP1) / aarch64 | 好吧 | 好吧 | 错误 | ||||||||||||||||||
包8/ 41 | 主机名 | OS /拱 | 安装 | 构建 | 检查 | 构建本 | ||||||||||||||||
CCPROMISE1.27.0(着陆页) 学苑曹
|
nebbiolo2 | Linux (Ubuntu 22.04.2 LTS) / x86_64 | 好吧 | 好吧 | 警告 | ![]() |
||||||||||||||||
palomino4 | Windows Server 2022数据中心/ x64 | 好吧 | 好吧 | 警告 | 好吧 | ![]() |
||||||||||||||||
lconway | macOS 12.6.5蒙特利/ x86_64 | 好吧 | 好吧 | 警告 | 好吧 | ![]() |
||||||||||||||||
kunpeng2 | Linux (openEuler 22.03 LTS-SP1) / aarch64 | 好吧 | 好吧 | 错误 | ||||||||||||||||||
包9/ 41 | 主机名 | OS /拱 | 安装 | 构建 | 检查 | 构建本 | ||||||||||||||||
cellHTS22.65.0(着陆页) 约瑟夫·巴里
|
nebbiolo2 | Linux (Ubuntu 22.04.2 LTS) / x86_64 | 好吧 | 好吧 | 警告 | ![]() |
||||||||||||||||
palomino4 | Windows Server 2022数据中心/ x64 | 好吧 | 好吧 | 好吧 | 好吧 | ![]() |
||||||||||||||||
lconway | macOS 12.6.5蒙特利/ x86_64 | 好吧 | 好吧 | 好吧 | 好吧 | ![]() |
||||||||||||||||
kunpeng2 | Linux (openEuler 22.03 LTS-SP1) / aarch64 | 好吧 | 好吧 | 错误 | ||||||||||||||||||
包10/ 41 | 主机名 | OS /拱 | 安装 | 构建 | 检查 | 构建本 | ||||||||||||||||
Cepo1.7.0(着陆页) 哈尼族Jieun金
|
nebbiolo2 | Linux (Ubuntu 22.04.2 LTS) / x86_64 | 好吧 | 好吧 | 警告 | ![]() |
||||||||||||||||
palomino4 | Windows Server 2022数据中心/ x64 | 好吧 | 好吧 | 警告 | 好吧 | ![]() |
||||||||||||||||
lconway | macOS 12.6.5蒙特利/ x86_64 | 好吧 | 好吧 | 警告 | 好吧 | ![]() |
||||||||||||||||
kunpeng2 | Linux (openEuler 22.03 LTS-SP1) / aarch64 | 好吧 | 好吧 | 错误 | ||||||||||||||||||
包11/ 41 | 主机名 | OS /拱 | 安装 | 构建 | 检查 | 构建本 | ||||||||||||||||
cosmosR1.9.1(着陆页) 阿提拉伽柏
|
nebbiolo2 | Linux (Ubuntu 22.04.2 LTS) / x86_64 | 好吧 | 好吧 | 好吧 | ![]() |
||||||||||||||||
palomino4 | Windows Server 2022数据中心/ x64 | 好吧 | 好吧 | 好吧 | 好吧 | ![]() |
||||||||||||||||
lconway | macOS 12.6.5蒙特利/ x86_64 | 好吧 | 好吧 | 好吧 | 好吧 | ![]() |
||||||||||||||||
kunpeng2 | Linux (openEuler 22.03 LTS-SP1) / aarch64 | 好吧 | 好吧 | 错误 | ||||||||||||||||||
包12/ 41 | 主机名 | OS /拱 | 安装 | 构建 | 检查 | 构建本 | ||||||||||||||||
cpvSNP1.33.0(着陆页) 凯特琳麦克休
|
nebbiolo2 | Linux (Ubuntu 22.04.2 LTS) / x86_64 | 好吧 | 好吧 | 好吧 | ![]() |
||||||||||||||||
palomino4 | Windows Server 2022数据中心/ x64 | 好吧 | 好吧 | 好吧 | 好吧 | ![]() |
||||||||||||||||
lconway | macOS 12.6.5蒙特利/ x86_64 | 好吧 | 好吧 | 好吧 | 好吧 | ![]() |
||||||||||||||||
kunpeng2 | Linux (openEuler 22.03 LTS-SP1) / aarch64 | 好吧 | 好吧 | 错误 | ||||||||||||||||||
包13/ 41 | 主机名 | OS /拱 | 安装 | 构建 | 检查 | 构建本 | ||||||||||||||||
EnrichmentBrowser2.31.1(着陆页) 路德维希Geistlinger
|
nebbiolo2 | Linux (Ubuntu 22.04.2 LTS) / x86_64 | 好吧 | 好吧 | 好吧 | ![]() |
||||||||||||||||
palomino4 | Windows Server 2022数据中心/ x64 | 好吧 | 好吧 | 好吧 | 好吧 | ![]() |
||||||||||||||||
lconway | macOS 12.6.5蒙特利/ x86_64 | 好吧 | 好吧 | 好吧 | 好吧 | ![]() |
||||||||||||||||
kunpeng2 | Linux (openEuler 22.03 LTS-SP1) / aarch64 | 好吧 | 好吧 | 错误 | ||||||||||||||||||
包14/ 41 | 主机名 | OS /拱 | 安装 | 构建 | 检查 | 构建本 | ||||||||||||||||
逃避1.11.0(着陆页) 尼克Borcherding
|
nebbiolo2 | Linux (Ubuntu 22.04.2 LTS) / x86_64 | 好吧 | 好吧 | 好吧 | ![]() |
||||||||||||||||
palomino4 | Windows Server 2022数据中心/ x64 | 好吧 | 好吧 | 好吧 | 好吧 | ![]() |
||||||||||||||||
lconway | macOS 12.6.5蒙特利/ x86_64 | 好吧 | 好吧 | 好吧 | 好吧 | ![]() |
||||||||||||||||
kunpeng2 | Linux (openEuler 22.03 LTS-SP1) / aarch64 | 好吧 | 好吧 | 错误 | ||||||||||||||||||
包15/ 41 | 主机名 | OS /拱 | 安装 | 构建 | 检查 | 构建本 | ||||||||||||||||
gep2pep1.21.0(着陆页) 弗朗西斯科·纳波利塔诺
|
nebbiolo2 | Linux (Ubuntu 22.04.2 LTS) / x86_64 | 好吧 | 好吧 | 好吧 | ![]() |
||||||||||||||||
palomino4 | Windows Server 2022数据中心/ x64 | 好吧 | 好吧 | 好吧 | 好吧 | ![]() |
||||||||||||||||
lconway | macOS 12.6.5蒙特利/ x86_64 | 好吧 | 好吧 | 好吧 | 好吧 | ![]() |
||||||||||||||||
kunpeng2 | Linux (openEuler 22.03 LTS-SP1) / aarch64 | 好吧 | 好吧 | 错误 | ||||||||||||||||||
包16/ 41 | 主机名 | OS /拱 | 安装 | 构建 | 检查 | 构建本 | ||||||||||||||||
GISPA1.25.0(着陆页) 巴克提已经受理
|
nebbiolo2 | Linux (Ubuntu 22.04.2 LTS) / x86_64 | 好吧 | 好吧 | 好吧 | ![]() |
||||||||||||||||
palomino4 | Windows Server 2022数据中心/ x64 | 好吧 | 好吧 | 好吧 | 好吧 | ![]() |
||||||||||||||||
lconway | macOS 12.6.5蒙特利/ x86_64 | 好吧 | 好吧 | 好吧 | 好吧 | ![]() |
||||||||||||||||
kunpeng2 | Linux (openEuler 22.03 LTS-SP1) / aarch64 | 好吧 | 好吧 | 错误 | ||||||||||||||||||
包17/ 41 | 主机名 | OS /拱 | 安装 | 构建 | 检查 | 构建本 | ||||||||||||||||
GlobalAncova4.19.0(着陆页) 曼胡默尔
|
nebbiolo2 | Linux (Ubuntu 22.04.2 LTS) / x86_64 | 好吧 | 好吧 | 好吧 | ![]() |
||||||||||||||||
palomino4 | Windows Server 2022数据中心/ x64 | 好吧 | 好吧 | 好吧 | 好吧 | ![]() |
||||||||||||||||
lconway | macOS 12.6.5蒙特利/ x86_64 | 好吧 | 好吧 | 好吧 | 好吧 | ![]() |
||||||||||||||||
kunpeng2 | Linux (openEuler 22.03 LTS-SP1) / aarch64 | 好吧 | 好吧 | 错误 | ||||||||||||||||||
包18/ 41 | 主机名 | OS /拱 | 安装 | 构建 | 检查 | 构建本 | ||||||||||||||||
GmicR1.15.0(着陆页) 理查德Virgen-Slane
|
nebbiolo2 | Linux (Ubuntu 22.04.2 LTS) / x86_64 | 好吧 | 好吧 | 警告 | ![]() |
||||||||||||||||
palomino4 | Windows Server 2022数据中心/ x64 | 好吧 | 好吧 | 警告 | 好吧 | ![]() |
||||||||||||||||
lconway | macOS 12.6.5蒙特利/ x86_64 | 好吧 | 好吧 | 警告 | 好吧 | ![]() |
||||||||||||||||
kunpeng2 | Linux (openEuler 22.03 LTS-SP1) / aarch64 | 好吧 | 错误 | 跳过 | ||||||||||||||||||
包19/ 41 | 主机名 | OS /拱 | 安装 | 构建 | 检查 | 构建本 | ||||||||||||||||
GSRI2.49.0(着陆页) 朱利安格林
|
nebbiolo2 | Linux (Ubuntu 22.04.2 LTS) / x86_64 | 好吧 | 好吧 | 好吧 | ![]() |
||||||||||||||||
palomino4 | Windows Server 2022数据中心/ x64 | 好吧 | 好吧 | 好吧 | 好吧 | ![]() |
||||||||||||||||
lconway | macOS 12.6.5蒙特利/ x86_64 | 好吧 | 好吧 | 好吧 | 好吧 | ![]() |
||||||||||||||||
kunpeng2 | Linux (openEuler 22.03 LTS-SP1) / aarch64 | 好吧 | 好吧 | 错误 | ||||||||||||||||||
包20./ 41 | 主机名 | OS /拱 | 安装 | 构建 | 检查 | 构建本 | ||||||||||||||||
GSVA1.49.2(着陆页) 罗伯特Castelo
|
nebbiolo2 | Linux (Ubuntu 22.04.2 LTS) / x86_64 | 好吧 | 好吧 | 好吧 | ![]() |
||||||||||||||||
palomino4 | Windows Server 2022数据中心/ x64 | 好吧 | 好吧 | 好吧 | 好吧 | ![]() |
||||||||||||||||
lconway | macOS 12.6.5蒙特利/ x86_64 | 好吧 | 好吧 | 好吧 | 好吧 | ![]() |
||||||||||||||||
kunpeng2 | Linux (openEuler 22.03 LTS-SP1) / aarch64 | 好吧 | 好吧 | 错误 | ||||||||||||||||||
包21/ 41 | 主机名 | OS /拱 | 安装 | 构建 | 检查 | 构建本 | ||||||||||||||||
mastR1.1.0(着陆页) 金近陈
|
nebbiolo2 | Linux (Ubuntu 22.04.2 LTS) / x86_64 | 好吧 | 好吧 | 好吧 | ![]() |
||||||||||||||||
palomino4 | Windows Server 2022数据中心/ x64 | 好吧 | 好吧 | 好吧 | 好吧 | ![]() |
||||||||||||||||
lconway | macOS 12.6.5蒙特利/ x86_64 | 好吧 | 好吧 | 好吧 | 好吧 | ![]() |
||||||||||||||||
kunpeng2 | Linux (openEuler 22.03 LTS-SP1) / aarch64 | 好吧 | 好吧 | 错误 | ||||||||||||||||||
包22/ 41 | 主机名 | OS /拱 | 安装 | 构建 | 检查 | 构建本 | ||||||||||||||||
miRSM1.19.0(着陆页) Junpeng张
|
nebbiolo2 | Linux (Ubuntu 22.04.2 LTS) / x86_64 | 好吧 | 好吧 | 好吧 | ![]() |
||||||||||||||||
palomino4 | Windows Server 2022数据中心/ x64 | 好吧 | 好吧 | 好吧 | 好吧 | ![]() |
||||||||||||||||
lconway | macOS 12.6.5蒙特利/ x86_64 | 好吧 | 好吧 | 好吧 | 好吧 | ![]() |
||||||||||||||||
kunpeng2 | Linux (openEuler 22.03 LTS-SP1) / aarch64 | 好吧 | 好吧 | 错误 | ||||||||||||||||||
包23/ 41 | 主机名 | OS /拱 | 安装 | 构建 | 检查 | 构建本 | ||||||||||||||||
mogsa1.35.0(着陆页) 陈孟
|
nebbiolo2 | Linux (Ubuntu 22.04.2 LTS) / x86_64 | 好吧 | 好吧 | 好吧 | ![]() |
||||||||||||||||
palomino4 | Windows Server 2022数据中心/ x64 | 好吧 | 好吧 | 好吧 | 好吧 | ![]() |
||||||||||||||||
lconway | macOS 12.6.5蒙特利/ x86_64 | 好吧 | 好吧 | 好吧 | 好吧 | ![]() |
||||||||||||||||
kunpeng2 | Linux (openEuler 22.03 LTS-SP1) / aarch64 | 好吧 | 好吧 | 错误 | ||||||||||||||||||
包24/ 41 | 主机名 | OS /拱 | 安装 | 构建 | 检查 | 构建本 | ||||||||||||||||
npGSEA1.37.0(着陆页) 杰西卡·拉森
|
nebbiolo2 | Linux (Ubuntu 22.04.2 LTS) / x86_64 | 好吧 | 好吧 | 好吧 | ![]() |
||||||||||||||||
palomino4 | Windows Server 2022数据中心/ x64 | 好吧 | 好吧 | 好吧 | 好吧 | ![]() |
||||||||||||||||
lconway | macOS 12.6.5蒙特利/ x86_64 | 好吧 | 好吧 | 好吧 | 好吧 | ![]() |
||||||||||||||||
kunpeng2 | Linux (openEuler 22.03 LTS-SP1) / aarch64 | 好吧 | 好吧 | 错误 | ||||||||||||||||||
包25/ 41 | 主机名 | OS /拱 | 安装 | 构建 | 检查 | 构建本 | ||||||||||||||||
oppar1.29.0(着陆页) Soroor Hediyeh德
|
nebbiolo2 | Linux (Ubuntu 22.04.2 LTS) / x86_64 | 好吧 | 好吧 | 警告 | ![]() |
||||||||||||||||
palomino4 | Windows Server 2022数据中心/ x64 | 好吧 | 好吧 | 警告 | 好吧 | ![]() |
||||||||||||||||
lconway | macOS 12.6.5蒙特利/ x86_64 | 好吧 | 好吧 | 警告 | 好吧 | ![]() |
||||||||||||||||
kunpeng2 | Linux (openEuler 22.03 LTS-SP1) / aarch64 | 好吧 | 好吧 | 错误 | ||||||||||||||||||
包26/ 41 | 主机名 | OS /拱 | 安装 | 构建 | 检查 | 构建本 | ||||||||||||||||
PanomiR1.5.0(着陆页) Pourya Naderi
|
nebbiolo2 | Linux (Ubuntu 22.04.2 LTS) / x86_64 | 好吧 | 好吧 | 好吧 | ![]() |
||||||||||||||||
palomino4 | Windows Server 2022数据中心/ x64 | 好吧 | 好吧 | 好吧 | 好吧 | ![]() |
||||||||||||||||
lconway | macOS 12.6.5蒙特利/ x86_64 | 好吧 | 好吧 | 好吧 | 好吧 | ![]() |
||||||||||||||||
kunpeng2 | Linux (openEuler 22.03 LTS-SP1) / aarch64 | 好吧 | 好吧 | 错误 | ||||||||||||||||||
包27/ 41 | 主机名 | OS /拱 | 安装 | 构建 | 检查 | 构建本 | ||||||||||||||||
phenoTest1.49.0(着陆页) Evarist星球
|
nebbiolo2 | Linux (Ubuntu 22.04.2 LTS) / x86_64 | 好吧 | 好吧 | 警告 | ![]() |
||||||||||||||||
palomino4 | Windows Server 2022数据中心/ x64 | 好吧 | 好吧 | 警告 | 好吧 | ![]() |
||||||||||||||||
lconway | macOS 12.6.5蒙特利/ x86_64 | 好吧 | 好吧 | 警告 | 好吧 | ![]() |
||||||||||||||||
kunpeng2 | Linux (openEuler 22.03 LTS-SP1) / aarch64 | 好吧 | 好吧 | 错误 | ||||||||||||||||||
包28/ 41 | 主机名 | OS /拱 | 安装 | 构建 | 检查 | 构建本 | ||||||||||||||||
承诺1.53.0(着陆页) 斯坦磅
|
nebbiolo2 | Linux (Ubuntu 22.04.2 LTS) / x86_64 | 好吧 | 好吧 | 好吧 | ![]() |
||||||||||||||||
palomino4 | Windows Server 2022数据中心/ x64 | 好吧 | 好吧 | 好吧 | 好吧 | ![]() |
||||||||||||||||
lconway | macOS 12.6.5蒙特利/ x86_64 | 好吧 | 好吧 | 好吧 | 好吧 | ![]() |
||||||||||||||||
kunpeng2 | Linux (openEuler 22.03 LTS-SP1) / aarch64 | 好吧 | 好吧 | 错误 | ||||||||||||||||||
包29日/ 41 | 主机名 | OS /拱 | 安装 | 构建 | 检查 | 构建本 | ||||||||||||||||
RcisTarget1.21.0(着陆页) 莎拉Aibar
|
nebbiolo2 | Linux (Ubuntu 22.04.2 LTS) / x86_64 | 好吧 | 好吧 | 错误 | |||||||||||||||||
palomino4 | Windows Server 2022数据中心/ x64 | 好吧 | 好吧 | 好吧 | 好吧 | ![]() |
||||||||||||||||
lconway | macOS 12.6.5蒙特利/ x86_64 | 好吧 | 好吧 | 好吧 | 好吧 | ![]() |
||||||||||||||||
kunpeng2 | Linux (openEuler 22.03 LTS-SP1) / aarch64 | 好吧 | 错误 | 跳过 | ||||||||||||||||||
包30./ 41 | 主机名 | OS /拱 | 安装 | 构建 | 检查 | 构建本 | ||||||||||||||||
ReportingTools2.41.0(着陆页) 杰森·a·哈克尼
|
nebbiolo2 | Linux (Ubuntu 22.04.2 LTS) / x86_64 | 好吧 | 错误 | 跳过 | |||||||||||||||||
palomino4 | Windows Server 2022数据中心/ x64 | 好吧 | 错误 | 跳过 | 跳过 | |||||||||||||||||
lconway | macOS 12.6.5蒙特利/ x86_64 | 好吧 | 错误 | 跳过 | 跳过 | |||||||||||||||||
kunpeng2 | Linux (openEuler 22.03 LTS-SP1) / aarch64 | 好吧 | 错误 | 跳过 | ||||||||||||||||||
包31日/ 41 | 主机名 | OS /拱 | 安装 | 构建 | 检查 | 构建本 | ||||||||||||||||
scTGIF1.15.0(着陆页) 露崎引人入胜
|
nebbiolo2 | Linux (Ubuntu 22.04.2 LTS) / x86_64 | 好吧 | 好吧 | 好吧 | ![]() |
||||||||||||||||
palomino4 | Windows Server 2022数据中心/ x64 | 好吧 | 好吧 | 好吧 | 好吧 | ![]() |
||||||||||||||||
lconway | macOS 12.6.5蒙特利/ x86_64 | 好吧 | 好吧 | 好吧 | 好吧 | ![]() |
||||||||||||||||
kunpeng2 | Linux (openEuler 22.03 LTS-SP1) / aarch64 | 好吧 | 好吧 | 错误 | ||||||||||||||||||
包32/ 41 | 主机名 | OS /拱 | 安装 | 构建 | 检查 | 构建本 | ||||||||||||||||
signatureSearch1.15.0(着陆页) 布伦丹Gongol
|
nebbiolo2 | Linux (Ubuntu 22.04.2 LTS) / x86_64 | 好吧 | 好吧 | 好吧 | ![]() |
||||||||||||||||
palomino4 | Windows Server 2022数据中心/ x64 | 好吧 | 好吧 | 错误 | 好吧 | |||||||||||||||||
lconway | macOS 12.6.5蒙特利/ x86_64 | 好吧 | 好吧 | 错误 | 好吧 | |||||||||||||||||
kunpeng2 | Linux (openEuler 22.03 LTS-SP1) / aarch64 | 好吧 | 错误 | 跳过 | ||||||||||||||||||
包33/ 41 | 主机名 | OS /拱 | 安装 | 构建 | 检查 | 构建本 | ||||||||||||||||
singleCellTK2.11.0(着陆页) 王一尘
|
nebbiolo2 | Linux (Ubuntu 22.04.2 LTS) / x86_64 | 好吧 | 好吧 | 好吧 | ![]() |
||||||||||||||||
palomino4 | Windows Server 2022数据中心/ x64 | 好吧 | 好吧 | 好吧 | 好吧 | ![]() |
||||||||||||||||
lconway | macOS 12.6.5蒙特利/ x86_64 | 好吧 | 好吧 | 好吧 | 好吧 | ![]() |
||||||||||||||||
kunpeng2 | Linux (openEuler 22.03 LTS-SP1) / aarch64 | 好吧 | 好吧 | 错误 | ||||||||||||||||||
包34/ 41 | 主机名 | OS /拱 | 安装 | 构建 | 检查 | 构建本 | ||||||||||||||||
singscore1.21.0(着陆页) Malvika Kharbanda
|
nebbiolo2 | Linux (Ubuntu 22.04.2 LTS) / x86_64 | 好吧 | 好吧 | 好吧 | ![]() |
||||||||||||||||
palomino4 | Windows Server 2022数据中心/ x64 | 好吧 | 好吧 | 好吧 | 好吧 | ![]() |
||||||||||||||||
lconway | macOS 12.6.5蒙特利/ x86_64 | 好吧 | 好吧 | 好吧 | 好吧 | ![]() |
||||||||||||||||
kunpeng2 | Linux (openEuler 22.03 LTS-SP1) / aarch64 | 好吧 | 好吧 | 错误 | ||||||||||||||||||
包35/ 41 | 主机名 | OS /拱 | 安装 | 构建 | 检查 | 构建本 | ||||||||||||||||
激流回旋1.23.0(着陆页) 戴维斯麦卡锡
|
nebbiolo2 | Linux (Ubuntu 22.04.2 LTS) / x86_64 | 好吧 | 好吧 | 好吧 | ![]() |
||||||||||||||||
palomino4 | Windows Server 2022数据中心/ x64 | 好吧 | 好吧 | 好吧 | 好吧 | ![]() |
||||||||||||||||
lconway | macOS 12.6.5蒙特利/ x86_64 | 错误 | 错误 | 跳过 | 跳过 | |||||||||||||||||
kunpeng2 | Linux (openEuler 22.03 LTS-SP1) / aarch64 | 好吧 | 好吧 | 错误 | ||||||||||||||||||
包36/ 41 | 主机名 | OS /拱 | 安装 | 构建 | 检查 | 构建本 | ||||||||||||||||
麻雀1.7.0(着陆页) 史蒂夫Lianoglou
|
nebbiolo2 | Linux (Ubuntu 22.04.2 LTS) / x86_64 | 好吧 | 好吧 | 好吧 | ![]() |
||||||||||||||||
palomino4 | Windows Server 2022数据中心/ x64 | 好吧 | 好吧 | 好吧 | 好吧 | ![]() |
||||||||||||||||
lconway | macOS 12.6.5蒙特利/ x86_64 | 好吧 | 好吧 | 好吧 | 好吧 | ![]() |
||||||||||||||||
kunpeng2 | Linux (openEuler 22.03 LTS-SP1) / aarch64 | 好吧 | 错误 | 跳过 | ||||||||||||||||||
包37/ 41 | 主机名 | OS /拱 | 安装 | 构建 | 检查 | 构建本 | ||||||||||||||||
splineTimeR1.29.0(着陆页) 赫伯特Braselmann
|
nebbiolo2 | Linux (Ubuntu 22.04.2 LTS) / x86_64 | 好吧 | 好吧 | 好吧 | ![]() |
||||||||||||||||
palomino4 | Windows Server 2022数据中心/ x64 | 好吧 | 好吧 | 好吧 | 好吧 | ![]() |
||||||||||||||||
lconway | macOS 12.6.5蒙特利/ x86_64 | 好吧 | 好吧 | 好吧 | 好吧 | ![]() |
||||||||||||||||
kunpeng2 | Linux (openEuler 22.03 LTS-SP1) / aarch64 | 好吧 | 好吧 | 错误 | ||||||||||||||||||
包38/ 41 | 主机名 | OS /拱 | 安装 | 构建 | 检查 | 构建本 | ||||||||||||||||
TFutils1.21.0(着陆页) 文森特·凯里
|
nebbiolo2 | Linux (Ubuntu 22.04.2 LTS) / x86_64 | 好吧 | 好吧 | 好吧 | ![]() |
||||||||||||||||
palomino4 | Windows Server 2022数据中心/ x64 | 好吧 | 好吧 | 好吧 | 好吧 | ![]() |
||||||||||||||||
lconway | macOS 12.6.5蒙特利/ x86_64 | 好吧 | 好吧 | 好吧 | 好吧 | ![]() |
||||||||||||||||
kunpeng2 | Linux (openEuler 22.03 LTS-SP1) / aarch64 | 好吧 | 错误 | 跳过 | ||||||||||||||||||
包39/ 41 | 主机名 | OS /拱 | 安装 | 构建 | 检查 | 构建本 | ||||||||||||||||
TissueEnrich1.21.0(着陆页) 阿施施耆那教徒的
|
nebbiolo2 | Linux (Ubuntu 22.04.2 LTS) / x86_64 | 好吧 | 好吧 | 好吧 | ![]() |
||||||||||||||||
palomino4 | Windows Server 2022数据中心/ x64 | 好吧 | 好吧 | 好吧 | 好吧 | ![]() |
||||||||||||||||
lconway | macOS 12.6.5蒙特利/ x86_64 | 好吧 | 好吧 | 好吧 | 好吧 | ![]() |
||||||||||||||||
kunpeng2 | Linux (openEuler 22.03 LTS-SP1) / aarch64 | 好吧 | 好吧 | 错误 | ||||||||||||||||||
包40/ 41 | 主机名 | OS /拱 | 安装 | 构建 | 检查 | 构建本 | ||||||||||||||||
vissE1.9.0(着陆页) Dharmesh d Bhuva
|
nebbiolo2 | Linux (Ubuntu 22.04.2 LTS) / x86_64 | 好吧 | 好吧 | 好吧 | ![]() |
||||||||||||||||
palomino4 | Windows Server 2022数据中心/ x64 | 好吧 | 好吧 | 好吧 | 好吧 | ![]() |
||||||||||||||||
lconway | macOS 12.6.5蒙特利/ x86_64 | 好吧 | 好吧 | 好吧 | 好吧 | ![]() |
||||||||||||||||
kunpeng2 | Linux (openEuler 22.03 LTS-SP1) / aarch64 | 好吧 | 超时 | 跳过 | ||||||||||||||||||
包41/ 41 | 主机名 | OS /拱 | 安装 | 构建 | 检查 | 构建本 | ||||||||||||||||
天顶1.3.0(着陆页) 加布里埃尔·霍夫曼
|
nebbiolo2 | Linux (Ubuntu 22.04.2 LTS) / x86_64 | 好吧 | 好吧 | 好吧 | ![]() |
||||||||||||||||
palomino4 | Windows Server 2022数据中心/ x64 | 好吧 | 好吧 | 好吧 | 好吧 | ![]() |
||||||||||||||||
lconway | macOS 12.6.5蒙特利/ x86_64 | 好吧 | 好吧 | 好吧 | 好吧 | ![]() |
||||||||||||||||
kunpeng2 | Linux (openEuler 22.03 LTS-SP1) / aarch64 | 好吧 | 好吧 | 错误 | ||||||||||||||||||