多个平台构建/检查报告BioC 3.18:简化
(一个] B C D E F G H J K l N O P R 年代 T U V W X Y Z

这个页面上生成-0400 11:17:55 2023-04-24(星期一,2023年4月24日)。

主机名 操作系统 拱(*) R版本 安装的包裹
nebbiolo2 Linux (Ubuntu 22.04.2 LTS) x86_64 明天4.3.0 RC (2023-04-18 r84287)——“已经” 4323年
lconway macOS 12.5.1蒙特利 x86_64 明天4.3.0 RC (2023-04-13 r84266)——“已经” 4283年
点击任何主机名看到更多的信息系统(如编译器)(*)报道的uname - p”,除了在Windows和Mac OS X

所有的结果包高山


的开发人员/维2021欧洲杯体育投注开户护者高山包:
——允许24小时(有时是48小时)为您的最新推到git@git.bioconductor.org:包/ alpine.git反思这一报告。看到故障排除构建报告为更多的信息。

——使用以下Renviron设置复制错误和警告。

注意:如果“R CMD检查“最近失败在Linux builder缺失的依赖关系,将缺失的依赖关系添加到“建议”在你的描述文件。看到Renviron.bioc获取详细信息。

生的结果

54/ 2195 主机名 OS /拱 安装 构建 检查 构建本
高山1.25.0(着陆页)
迈克尔的爱
快照日期:2023-04-23 14:00:08 -0400(太阳,2023年4月23日)
git_url:https://git.bioconductor.org/packages/alpine
git_branch:重击
git_last_commit:609年ae1e
git_last_commit_date:-0400 2022-11-01 11:14:18(星期二,2022年11月01)
nebbiolo2 Linux (Ubuntu 22.04.2 LTS) / x86_64 错误 错误 跳过
lconway macOS 12.5.1蒙特利/ x86_64 错误 错误 跳过 跳过