3.18构建/ BioC检查报告:简化
一个 B C (D] E F G H J K l N O P R 年代 T U V W X Y Z

这个页面生成于-0400年2023-04-20 12:50:19(星期四,2023年4月20日)。

主机名 操作系统 拱(*) R版本 安装的包裹
nebbiolo2 Linux (Ubuntu 20.04.5 LTS) x86_64 正在开发R(不稳定)(2023-04-19 r84288)——“Unsuffered后果” 3941年
点击任何主机名看到更多的信息系统(如编译器)(*)报道的uname - p”,除了在Windows和Mac OS X

所有的结果包dasper


的开发人员/维2021欧洲杯体育投注开户护者dasper包:
——允许24小时(有时是48小时)为您的最新推到git@git.bioconductor.org:包/ dasper.git反思这一报告。看到故障排除构建报告为更多的信息。

——使用以下Renviron设置复制错误和警告。

注意:如果“R CMD检查“最近失败在Linux builder缺失的依赖关系,将缺失的依赖关系添加到“建议”在你的描述文件。看到Renviron.bioc获取详细信息。

生的结果

494年/ 2223 主机名 OS /拱 安装 构建 检查 构建本
dasper 1.9.1(着陆页)
大卫·张
快照日期:2023-04-19 23:55:56 -0400(结婚,2023年4月19日)
git_url:https://git.bioconductor.org/packages/dasper
git_branch:重击
git_last_commit:3 fa8472
git_last_commit_date:-0400 2023-03-30 12:36:59(星期四,2023年3月30日)
nebbiolo2 Linux (Ubuntu 20.04.5 LTS) / x86_64 好吧 错误 跳过

结果直接取决于包dasper Bioconductor软件包

快速统计数据 OS /拱 安装 构建 检查 构建本
nebbiolo2 Linux (Ubuntu 20.04.5 LTS) / x86_64
0 0 1
0 0 1
0 0 1 0
1/ 1 主机名 OS /拱 安装 构建 检查 构建本
奥得河1.5.1(着陆页)
大卫·张
git_last_commit:66年ef3bb
git_last_commit_date:-0400 12:39:10 2023-03-30
nebbiolo2 Linux (Ubuntu 20.04.5 LTS) / x86_64 好吧 好吧 警告 不,包取决于“dasper”它是不可用的